BEGIN:VCALENDAR
PRODID:-//eluceo/ical//2.0/EN
VERSION:2.0
CALSCALE:GREGORIAN
BEGIN:VEVENT
UID:event-107
DTSTAMP:20260424T100201Z
SUMMARY:Webinar: E-Coffee with ECOFI: organic-based fertilisers for soil he
 alth
DESCRIPTION:The EU’s activities in support of soil health exemplify growi
 ng recognition of just how vital our soils are to the transition to sustai
 nable food systems. Organic-based fertilisers have a critical role to play
  in the pursuit of healthier European soils\, and therefore in achieving i
 ncreased food sustainability and security.  In this context\, ECOFI\, the
  European Consortium of the Organic-Based Fertilizer Industry\, would like
  to invite you to our webinar on the 12th of December from 14:00 to 15:00 
 CET entitled “E-Coffee with ECOFI: organic-based fertilisers for soil he
 alth”\, the first in a series of short ECOFI online advocacy events.  T
 his event will feature insights from policy-makers\, farmer representative
 s\, and industry on how organic-based fertilisers can contribute to health
 ier soils across Europe\, as well as providing participants with an opport
 unity to engage in discussion on this topic. If you’d like to learn more
 \, register to attend with this link today!  Check out  LinkedIn and X 
 soon for the final list of confirmed speakers.  
DTSTART:20231212T130000Z
DTEND:20231212T140000Z
END:VEVENT
BEGIN:VTIMEZONE
TZID:UTC
BEGIN:STANDARD
DTSTART:20231212T130000
TZNAME:UTC
TZOFFSETTO:+0000
TZOFFSETFROM:+0000
END:STANDARD
END:VTIMEZONE
END:VCALENDAR
