BEGIN:VCALENDAR
PRODID:-//eluceo/ical//2.0/EN
VERSION:2.0
CALSCALE:GREGORIAN
BEGIN:VEVENT
UID:event-142
DTSTAMP:20260424T090004Z
SUMMARY:Artemis Jubileums symposium ‘Weerbare teelten met perspectief’
DESCRIPTION:Het jaar 2024 markeert het 30-jarig bestaan van Artemis\, bran
 chevereniging van producenten en distributeurs van biologische bestrijders
  en bestuivers\, gewasbeschermingsmiddelen van natuurlijke oorsprong en bi
 ostimulanten. In drie decennia is er veel gebeurd\, van het reguleren van 
 wetgeving rond biologische bestrijders en bestuivers tot de huidige uitdag
 ing om weerbare plant- en teeltsystemen mogelijk te maken met de juiste pr
 oducten\, strategieën en passende wetgeving. Deelname Dit event is toega
 nkelijk voor genodigden. In februari zijn persoonlijke uitnodigingen verst
 uurd. Heeft u uw uitnodiging gemist? Neem dan contact op met Helma Verberk
 t. Deelnemers vinden alle informatie over dit symposiuom op de speciale ev
 ent pagina Netwerkborrel Tijdens de gehele dag\, maar vooral na afloop van
  het officiële gedeelte is er tijdens een netwerkborrel ruime mogelijkhei
 d om bij te praten met vakgenoten uit de sector. Benieuwd wie er aanwezig
  is?
DTSTART:20240516T110000Z
DTEND:20240516T183000Z
END:VEVENT
BEGIN:VTIMEZONE
TZID:UTC
BEGIN:STANDARD
DTSTART:20240516T110000
TZNAME:UTC
TZOFFSETTO:+0000
TZOFFSETFROM:+0000
END:STANDARD
END:VTIMEZONE
END:VCALENDAR
