BEGIN:VCALENDAR
PRODID:-//eluceo/ical//2.0/EN
VERSION:2.0
CALSCALE:GREGORIAN
BEGIN:VEVENT
UID:event-184
DTSTAMP:20260424T100201Z
SUMMARY:Oplossingen bij minder beschikbare chemische gewasbeschermingsmidde
 len
DESCRIPTION:Het aantal chemische gewasbeschermingsmiddelen neemt fors af en
  er komen nauwelijks nieuwe middelen bij. Hoe kun je dan als kweker toch 
 op een rendabele manier een gezond gewas kweken en hoe kun je het onkruid 
 beheersen\, ook in een nat jaar als 2024? Dit zijn vragen waar veel kweker
 s mee worstelen\, terwijl er ook kwekers zijn die hier oplossingen in vind
 en. Om mogelijke oplossingen te bekijken en te bespreken nodigt LTO Bomen\
 , Vaste Planten en Zomerbloemen u uit voor een bijeenkomst over deze ontwi
 kkelingen. Voor het programma en om u aan te melden klikt u HIER
DTSTART:20240829T130000Z
DTEND:20240829T170000Z
END:VEVENT
BEGIN:VTIMEZONE
TZID:UTC
BEGIN:STANDARD
DTSTART:20240829T130000
TZNAME:UTC
TZOFFSETTO:+0000
TZOFFSETFROM:+0000
END:STANDARD
END:VTIMEZONE
END:VCALENDAR
