BEGIN:VCALENDAR
PRODID:-//eluceo/ical//2.0/EN
VERSION:2.0
CALSCALE:GREGORIAN
BEGIN:VEVENT
UID:event-85
DTSTAMP:20260424T094324Z
SUMMARY:Bestuursvergadering
DESCRIPTION:Bestuursleden kunnen de notulen en documenten raadplegen in BES
 TANDEN
DTSTART:20240905T130000Z
DTEND:20240905T150000Z
LOCATION:Biobest
END:VEVENT
BEGIN:VTIMEZONE
TZID:UTC
BEGIN:STANDARD
DTSTART:20240905T130000
TZNAME:UTC
TZOFFSETTO:+0000
TZOFFSETFROM:+0000
END:STANDARD
END:VTIMEZONE
END:VCALENDAR
